BEGIN:VCALENDAR
VERSION:2.0
PRODID:-//wp-events-plugin.com//5.94//EN
TZID:Europe/Luxembourg
X-WR-TIMEZONE:Europe/Luxembourg
BEGIN:VEVENT
UID:26@onsheemecht.lu
DTSTART;TZID=Europe/Luxembourg:20180706T193000
DTEND;TZID=Europe/Luxembourg:20180706T210000
DTSTAMP:20180523T074301Z
URL:https://onsheemecht.lu/events/concert-eight-bar-blues-band/
SUMMARY:Concert - Eight Bar Blues Band
DESCRIPTION:\n\n&nbsp\;Concert with Eight Bar Blues Band.\n\nEight Bar Blue
 s Band (8BBB) is a Luxembourg based Blues Band founded in 2015 and playing
  exclusively its own compositions. Our blues range from traditional 8- and
  12-bar blues to funky songs to more complex arrangements that playfully d
 eal with repetitive parts and surprise with unexpected or even reversed ch
 ord sequences and resolutions.\n\nMembers: Lynn Weber (vocals)\, Christian
  Ries (Stage piano\, vocals)\, Tomasz Gorazd (Blues harp\, vocals)\, Benny
  Deleuran (bass\, vocals)\, Bernard Biersohn (Drums).\n\n&nbsp\;Concert av
 ec Eight Bar Blues Band.\n\nEight Bar Blues Band (8BBB) est un groupe de B
 lues luxembourgeois créé en 2015 et qui joue exclusivement ses propres c
 ompositions. Notre répertoire va du blues traditionnel à 8 et 12 mesures
 \, en passant par les chansons funky\, jusqu'aux arrangements plus complex
 es qui gèrent de manière ludique les parties répétitives et surprennen
 t avec des séquences et des résolutions d'accords inattendues ou même i
 nversées.\n\nMembres : Lynn Weber (Chant)\, Christian Ries (Stage piano\,
  chant)\, Tomasz Gorazd (Harmonica diatonique\, chant)\, Benny Deleuran (B
 asse\, chant)\, Bernard Biersohn (Batterie).
CATEGORIES:Music
LOCATION:Foyer Mondercange\, 153\, rue d'Esch\, Mondercange\, 3920\, Luxemb
 ourg
GEO:49.5304954;5.987574600000016
X-APPLE-STRUCTURED-LOCATION;VALUE=URI;X-ADDRESS=153\, rue d'Esch\, Monderca
 nge\, 3920\, Luxembourg;X-APPLE-RADIUS=100;X-TITLE=Foyer Mondercange:geo:4
 9.5304954,5.987574600000016
END:VEVENT
BEGIN:VTIMEZONE
TZID:Europe/Luxembourg
X-LIC-LOCATION:Europe/Luxembourg
BEGIN:DAYLIGHT
DTSTART:20180325T030000
TZOFFSETFROM:+0100
TZOFFSETTO:+0200
TZNAME:CEST
END:DAYLIGHT
END:VTIMEZONE
END:VCALENDAR