BEGIN:VCALENDAR
VERSION:2.0
PRODID:-//wp-events-plugin.com//5.94//EN
TZID:Europe/Luxembourg
X-WR-TIMEZONE:Europe/Luxembourg
BEGIN:VEVENT
UID:30@onsheemecht.lu
DTSTART;TZID=Europe/Luxembourg:20180706T190000
DTEND;TZID=Europe/Luxembourg:20180706T190000
DTSTAMP:20180612T125751Z
URL:https://onsheemecht.lu/events/intercultural-choir-home-sweet-home-9/
SUMMARY:Intercultural Choir Home Sweet Home
DESCRIPTION: Mir wëllen iech ons Heemecht weisen and the Luxembourg Red Cr
 oss (Croix-Rouge luxembourgeoise) invite you to join the intercultural cho
 ir Home Sweet Home\, and sing along with us.\n\nThe aim is bringing people
  from various cultural and linguistic backgrounds together with the simple
  yet effective power of music. Our repertoire is a colourful mix of genres
 \, as are our participants.\n\nThe presence of skilled singers next to com
 plete beginners will enable everybody to enjoy learning the basics of choi
 r singing with much fun!\n\n\n\n Mir wëllen iech ons Heemecht weisen et l
 a Croix-Rouge luxembourgeoise vous invitent à vous joindre au chœur inte
 rculturel&nbsp\; Home Sweet Home et à chanter avec nous.\n\nL'objectif es
 t de réunir des personnes d'origines culturelles et linguistiques diverse
 s avec le pouvoir simple mais efficace de la musique. Notre répertoire es
 t un mélange coloré de genres\, tout comme nos participants.\n\nLa prés
 ence de chanteurs talentueux à côté de débutants complets permettra à
  tout le monde d'apprendre les bases du chant choral avec beaucoup de plai
 sir!\n\n\n
CATEGORIES:Singing
LOCATION:INECC\, 2\, rue sosthène weis\, Luxembourg\, Luxembourg
GEO:49.6089322;6.134798199999977
X-APPLE-STRUCTURED-LOCATION;VALUE=URI;X-ADDRESS=2\, rue sosthène weis\, Lu
 xembourg\, Luxembourg;X-APPLE-RADIUS=100;X-TITLE=INECC:geo:49.6089322,6.13
 4798199999977
END:VEVENT
BEGIN:VTIMEZONE
TZID:Europe/Luxembourg
X-LIC-LOCATION:Europe/Luxembourg
BEGIN:DAYLIGHT
DTSTART:20180325T030000
TZOFFSETFROM:+0100
TZOFFSETTO:+0200
TZNAME:CEST
END:DAYLIGHT
END:VTIMEZONE
END:VCALENDAR