BEGIN:VCALENDAR
VERSION:2.0
PRODID:-//wp-events-plugin.com//5.94//EN
TZID:Europe/Luxembourg
X-WR-TIMEZONE:Europe/Luxembourg
BEGIN:VEVENT
UID:36@onsheemecht.lu
DTSTART;TZID=Europe/Luxembourg:20180714T100000
DTEND;TZID=Europe/Luxembourg:20180714T120000
DTSTAMP:20180612T130519Z
URL:https://onsheemecht.lu/events/music-jam-8/
SUMMARY:Music Jam
DESCRIPTION:→ Download Flyer in&nbsp\; PDF format (140 KB)\n\n\n\n Mir w
 ëllen iech ons Heemecht weisen&nbsp\;organises cultural events\, trips an
 d workshops to bring together refugees and residents in Luxembourg.&nbsp\;
 \n\nAt the moment\, we offer a 'Music Jam' where we invite everybody\, wit
 h or without musical experience\, to come and improvise with us.&nbsp\;\n\
 n\n\n Mir wëllen iech ons Heemecht weisen&nbsp\;est une asbl qui organise
  des événements\, ateliers et sorties culturelles pour tisser des liens 
 entre les réfugiés et les résidents du Luxembourg.&nbsp\;\n\nEn ce mome
 nt\, nous offrons une 'Music Jam'\, où nous invitons toute personne curie
 use d'improvisation\, avec ou sans expérience musicale\, de se joindre à
  nous.&nbsp\;\n\n\n\n\nتنظم المبادرة فعاليات ثقافي
 ة ورحلات وورش عمل لجمع اللاجئين والمقيمي
 ن في لوكسمبورغ.\nفي الوقت الحالي ، نقدم "م
 وسيقى جام" حيث ندعو الجميع ، مع أو بدون خب
 رة موسيقية ، إلى القدوم والإرتجال معنا.\n\
 n\n
CATEGORIES:Music,Singing
LOCATION:Hariko\, 1\, Dernier Sol\, Bonnevoie\, 2543\, Luxembourg
GEO:49.5971601;6.134240699999964
X-APPLE-STRUCTURED-LOCATION;VALUE=URI;X-ADDRESS=1\, Dernier Sol\, Bonnevoie
 \, 2543\, Luxembourg;X-APPLE-RADIUS=100;X-TITLE=Hariko:geo:49.5971601,6.13
 4240699999964
END:VEVENT
BEGIN:VTIMEZONE
TZID:Europe/Luxembourg
X-LIC-LOCATION:Europe/Luxembourg
BEGIN:DAYLIGHT
DTSTART:20180325T030000
TZOFFSETFROM:+0100
TZOFFSETTO:+0200
TZNAME:CEST
END:DAYLIGHT
END:VTIMEZONE
END:VCALENDAR