BEGIN:VCALENDAR
VERSION:2.0
PRODID:-//wp-events-plugin.com//5.94//EN
TZID:Europe/Luxembourg
X-WR-TIMEZONE:Europe/Luxembourg
BEGIN:VEVENT
UID:18@onsheemecht.lu
DTSTART;TZID=Europe/Luxembourg:20180713T160000
DTEND;TZID=Europe/Luxembourg:20180713T210000
DTSTAMP:20180612T131653Z
URL:https://onsheemecht.lu/events/summer-festivity-3/
SUMMARY:Summer Festivity
DESCRIPTION:\n\nDownload flyer here&nbsp\;\n\n&nbsp\; We celebrate the summ
 er together in a refugee camp. Mir wëllen iech ons Heemecht weisen togeth
 er with the residents from the camp invite you to an afternoon filled with
  live music\, disco\, barbecue and kids activities.&nbsp\;\n\n&nbsp\;Afin 
 de célébrer l'été ensemble\, nous vous invitons ensemble avec les réf
 ugiés du Foyer d'accueil\, à participer à notre fête remplie de music 
 live\, disco\, barbecue et ateliers pour enfants.&nbsp\;
CATEGORIES:Dance,Festivity,Music
LOCATION:Foyer Creos Miersch\, 77\, rue d'Arlon\, Mersch\, 7513\, Luxembour
 g
GEO:49.7517001;6.097063100000014
X-APPLE-STRUCTURED-LOCATION;VALUE=URI;X-ADDRESS=77\, rue d'Arlon\, Mersch\,
  7513\, Luxembourg;X-APPLE-RADIUS=100;X-TITLE=Foyer Creos Miersch:geo:49.7
 517001,6.097063100000014
END:VEVENT
BEGIN:VTIMEZONE
TZID:Europe/Luxembourg
X-LIC-LOCATION:Europe/Luxembourg
BEGIN:DAYLIGHT
DTSTART:20180325T030000
TZOFFSETFROM:+0100
TZOFFSETTO:+0200
TZNAME:CEST
END:DAYLIGHT
END:VTIMEZONE
END:VCALENDAR