BEGIN:VCALENDAR
VERSION:2.0
PRODID:-//wp-events-plugin.com//5.94//EN
TZID:Europe/Luxembourg
X-WR-TIMEZONE:Europe/Luxembourg
BEGIN:VEVENT
UID:19@onsheemecht.lu
DTSTART;TZID=Europe/Luxembourg:20180825T120000
DTEND;TZID=Europe/Luxembourg:20180825T180000
DTSTAMP:20180612T135358Z
URL:https://onsheemecht.lu/events/summer-festivity-4/
SUMMARY:Summer Festivity
DESCRIPTION:\n\nDownload flyer here\n\n&nbsp\; We celebrate the summer toge
 ther in a refugee camp. Mir wëllen iech ons Heemecht weisen together with
  the residents from the camp invite you to an afternoon filled with live m
 usic\, disco\, barbecue and kids activities.&nbsp\;\n\n&nbsp\;Afin de cél
 ébrer l'été ensemble\, nous vous invitons ensemble avec les réfugiés 
 du Foyer d'accueil\, à participer à notre fête remplie de music live\, 
 disco\, barbecue et ateliers pour enfants.&nbsp\;
CATEGORIES:Dance,Festivity,Music
LOCATION:Foyer Eich\, 28\, rue d'Eich\, Luxembourg\, Luxembourg
GEO:49.630067;6.132732400000009
X-APPLE-STRUCTURED-LOCATION;VALUE=URI;X-ADDRESS=28\, rue d'Eich\, Luxembour
 g\, Luxembourg;X-APPLE-RADIUS=100;X-TITLE=Foyer Eich:geo:49.630067,6.13273
 2400000009
END:VEVENT
BEGIN:VTIMEZONE
TZID:Europe/Luxembourg
X-LIC-LOCATION:Europe/Luxembourg
BEGIN:DAYLIGHT
DTSTART:20180325T030000
TZOFFSETFROM:+0100
TZOFFSETTO:+0200
TZNAME:CEST
END:DAYLIGHT
END:VTIMEZONE
END:VCALENDAR