BEGIN:VCALENDAR
VERSION:2.0
PRODID:-//wp-events-plugin.com//5.94//EN
TZID:Europe/Luxembourg
X-WR-TIMEZONE:Europe/Luxembourg
BEGIN:VEVENT
UID:38@onsheemecht.lu
DTSTART;TZID=Europe/Luxembourg:20180831T120000
DTEND;TZID=Europe/Luxembourg:20180831T170000
DTSTAMP:20180613T124829Z
URL:https://onsheemecht.lu/events/summer-festivity/
SUMMARY:Summer Festivity
DESCRIPTION:\n\nDownload flyer here\n\n We celebrate the summer together in
  a refugee camp. Mir wëllen iech ons Heemecht weisen together with the re
 sidents from the camp invite you to an afternoon filled with live music\, 
 disco\, barbecue and kids activities.&nbsp\;\n\n Nous célébrons l'été 
 ensemble dans un camp de réfugiés. Mir wëllen iech ons Heemecht weisen 
 ensemble avec les résidents du foyer d'accueil vous invitent à un après
 -midi rempli de musique live\, discothèque\, barbecue et activités pour 
 enfants.
CATEGORIES:Festivity
LOCATION:Foyer Hesperange\,  299\, ROUTE DE THIONVILLE\, Hesperange\, 5885\
 , Luxembourg
GEO:49.5770811;6.153937100000007
X-APPLE-STRUCTURED-LOCATION;VALUE=URI;X-ADDRESS= 299\, ROUTE DE THIONVILLE\
 , Hesperange\, 5885\, Luxembourg;X-APPLE-RADIUS=100;X-TITLE=Foyer Hesperan
 ge:geo:49.5770811,6.153937100000007
END:VEVENT
BEGIN:VTIMEZONE
TZID:Europe/Luxembourg
X-LIC-LOCATION:Europe/Luxembourg
BEGIN:DAYLIGHT
DTSTART:20180325T030000
TZOFFSETFROM:+0100
TZOFFSETTO:+0200
TZNAME:CEST
END:DAYLIGHT
END:VTIMEZONE
END:VCALENDAR